BEGIN:VCALENDAR
VERSION:2.0
PRODID:-//Kirk Charlton - ECPv6.14.2//NONSGML v1.0//EN
CALSCALE:GREGORIAN
METHOD:PUBLISH
X-WR-CALNAME:Kirk Charlton
X-ORIGINAL-URL:https://kirkcharlton.com
X-WR-CALDESC:Events for Kirk Charlton
REFRESH-INTERVAL;VALUE=DURATION:PT1H
X-Robots-Tag:noindex
X-PUBLISHED-TTL:PT1H
BEGIN:VTIMEZONE
TZID:UTC
BEGIN:STANDARD
TZOFFSETFROM:+0000
TZOFFSETTO:+0000
TZNAME:UTC
DTSTART:20250101T000000
END:STANDARD
END:VTIMEZONE
BEGIN:VEVENT
DTSTART;TZID=UTC:20250825T140000
DTEND;TZID=UTC:20250825T160000
DTSTAMP:20260421T143919
CREATED:20181218T023057Z
LAST-MODIFIED:20250801T195158Z
UID:767-1756130400-1756137600@kirkcharlton.com
SUMMARY:Intro to ART Inside Out a Program of Better Neighbors
DESCRIPTION:Get the Address\n					\n					\n				\n								\n				\n				\n				\n					Widget only works on single event page.
URL:https://kirkcharlton.com/event/books-with-berke/
LOCATION:Venue 1\, 834 Monroe St\, Eugene\, OR\, United States
CATEGORIES:Introduction to Art Inside Out
ATTACH;FMTTYPE=image/png:https://kirkcharlton.com/wp-content/uploads/2018/12/Blue-Guest-Featured-Live-Event-Twitter-Post.png
END:VEVENT
BEGIN:VEVENT
DTSTART;TZID=UTC:20250825T100000
DTEND;TZID=UTC:20250825T120000
DTSTAMP:20260421T143920
CREATED:20250718T204820Z
LAST-MODIFIED:20250801T195018Z
UID:5700-1756116000-1756123200@kirkcharlton.com
SUMMARY:Intro to ART Inside Out a Program of Better Neighbors
DESCRIPTION:Get the Address\n					\n					\n				\n								\n				\n				\n				\n					Widget only works on single event page.
URL:https://kirkcharlton.com/event/intro-to-art-inside-out-a-program-of-better-neighbors/
LOCATION:Venue 2\, 260 E 11th Ave\, Eugene\, OR\, United States
CATEGORIES:Introduction to Art Inside Out
ATTACH;FMTTYPE=image/png:https://kirkcharlton.com/wp-content/uploads/2025/07/Blue-Guest-Featured-Live-Event-Twitter-Post-1.png
END:VEVENT
END:VCALENDAR